BEGIN:VCALENDAR
VERSION:2.0
PRODID:-//Hope in a Hopeless World - ECPv6.15.20//NONSGML v1.0//EN
CALSCALE:GREGORIAN
METHOD:PUBLISH
X-ORIGINAL-URL:https://hopeinahopelessworld.com
X-WR-CALDESC:Events for Hope in a Hopeless World
REFRESH-INTERVAL;VALUE=DURATION:PT1H
X-Robots-Tag:noindex
X-PUBLISHED-TTL:PT1H
BEGIN:VTIMEZONE
TZID:America/Chicago
BEGIN:DAYLIGHT
TZOFFSETFROM:-0600
TZOFFSETTO:-0500
TZNAME:CDT
DTSTART:20240310T080000
END:DAYLIGHT
BEGIN:STANDARD
TZOFFSETFROM:-0500
TZOFFSETTO:-0600
TZNAME:CST
DTSTART:20241103T070000
END:STANDARD
BEGIN:DAYLIGHT
TZOFFSETFROM:-0600
TZOFFSETTO:-0500
TZNAME:CDT
DTSTART:20250309T080000
END:DAYLIGHT
BEGIN:STANDARD
TZOFFSETFROM:-0500
TZOFFSETTO:-0600
TZNAME:CST
DTSTART:20251102T070000
END:STANDARD
BEGIN:DAYLIGHT
TZOFFSETFROM:-0600
TZOFFSETTO:-0500
TZNAME:CDT
DTSTART:20260308T080000
END:DAYLIGHT
BEGIN:STANDARD
TZOFFSETFROM:-0500
TZOFFSETTO:-0600
TZNAME:CST
DTSTART:20261101T070000
END:STANDARD
END:VTIMEZONE
BEGIN:VEVENT
DTSTART;VALUE=DATE:20250405
DTEND;VALUE=DATE:20250406
DTSTAMP:20260423T231446
CREATED:20250119T174223Z
LAST-MODIFIED:20250310T040817Z
UID:1971-1743811200-1743897599@hopeinahopelessworld.com
SUMMARY:HHW's Spring Wellness Day!
DESCRIPTION:Join us for our annual Spring Wellness Day. \nYou can expect relaxing\, non-judgmental\, healing spaces and moments. \nEvent starts at 2:30 PM \nDinner will be on your own – Please remember to bring a dinner with you or plan to eat at one of the many restaurants nearby. \nThere are many entrances to the park. We found that this address below will bring you to the parking lot of our event. \n9842 Briarwood Ave NE\, Monticello\, MN 55362 \nFor attire\, wear comfy clothes and walking shoes. There will not be a lot of walking\, but if you would like to participate in any light walking the paths are gravel so tennis shoes or whatever your feet will be comfortable in is recommended. \nSuggested donation of $40.  Register or sponsor a registration today! \nReach out with any questions or concerns. \n  \nCrystal & Elizabeth \nHope in a Hopeless World \nhope@hhwmn.com \nwww.hhwmn.com \n  \nShare this:\n				Share on Facebook (Opens in new window)\n				Facebook\n			\n				Share on Pinterest (Opens in new window)\n				Pinterest\n			Like this:Like Loading...
URL:https://hopeinahopelessworld.com/event/hhws-spring-wellness-day/
LOCATION:Chalet – Bertram Chain of Lakes\, 9842 Briarwood Ave NE\, Monticello\, MN\, 55362\, United States
CATEGORIES:Hope Connection
ATTACH;FMTTYPE=image/png:https://hopeinahopelessworld.com/wp-content/uploads/2025/01/April-Groups-3.png
ORGANIZER;CN="Hope in a Hopeless World":MAILTO:hope@hhwmn.com
END:VEVENT
END:VCALENDAR