BEGIN:VCALENDAR
VERSION:2.0
PRODID:-//Hope in a Hopeless World - ECPv6.15.20//NONSGML v1.0//EN
CALSCALE:GREGORIAN
METHOD:PUBLISH
X-ORIGINAL-URL:https://hopeinahopelessworld.com
X-WR-CALDESC:Events for Hope in a Hopeless World
REFRESH-INTERVAL;VALUE=DURATION:PT1H
X-Robots-Tag:noindex
X-PUBLISHED-TTL:PT1H
BEGIN:VTIMEZONE
TZID:UTC
BEGIN:STANDARD
TZOFFSETFROM:+0000
TZOFFSETTO:+0000
TZNAME:UTC
DTSTART:20230101T000000
END:STANDARD
END:VTIMEZONE
BEGIN:VEVENT
DTSTART;TZID=UTC:20240203T090000
DTEND;TZID=UTC:20240203T103000
DTSTAMP:20260424T221529
CREATED:20240112T100832Z
LAST-MODIFIED:20240112T100915Z
UID:1597-1706950800-1706956200@hopeinahopelessworld.com
SUMMARY:Love Inward!
DESCRIPTION:Love Inward\, an interactive workshop focused on loving ourselves. \n“Talk to yourself like you would someone you love.” – Brene Brown \nThe voices inside our head are often downright mean\, critical\, and ugly. The negative self-talk has a direct impact on our health in all domains – mental\, physical\, spiritual\, emotional\, personal\, professional\, etc. This interactive workshop will address this much need aspect of health. \nLove Inward first\, so you can love outward! \n\nThe workshop is limited to 15 people. $20 donation to attend. 3 free scholarship spots available\, on a first come/first serve basis (more will be added if additional donations come in for the event). \n\nRegister here through Zeffy\, our free donation platform!  https://www.zeffy.com/en-US/ticketing/98da4d59-2a30-42a8-95e3-5595d7e9bdb6 \nShare this:\n				Share on Facebook (Opens in new window)\n				Facebook\n			\n				Share on Pinterest (Opens in new window)\n				Pinterest\n			Like this:Like Loading...
URL:https://hopeinahopelessworld.com/event/love-inward/
LOCATION:Monticello Community Center\, 505 Walnut Street\, Monticello\, MN\, 55362\, United States
ATTACH;FMTTYPE=image/jpeg:https://hopeinahopelessworld.com/wp-content/uploads/2024/01/418942734_901270658665149_8879571073345998879_n.jpg
ORGANIZER;CN="Hope in a Hopeless World":MAILTO:hope@hhwmn.com
END:VEVENT
END:VCALENDAR