BEGIN:VCALENDAR
VERSION:2.0
PRODID:-//Hope in a Hopeless World - ECPv6.15.20//NONSGML v1.0//EN
CALSCALE:GREGORIAN
METHOD:PUBLISH
X-ORIGINAL-URL:https://hopeinahopelessworld.com
X-WR-CALDESC:Events for Hope in a Hopeless World
REFRESH-INTERVAL;VALUE=DURATION:PT1H
X-Robots-Tag:noindex
X-PUBLISHED-TTL:PT1H
BEGIN:VTIMEZONE
TZID:Asia/Karachi
BEGIN:STANDARD
TZOFFSETFROM:+0500
TZOFFSETTO:+0500
TZNAME:PKT
DTSTART:20210101T000000
END:STANDARD
END:VTIMEZONE
BEGIN:VTIMEZONE
TZID:UTC
BEGIN:STANDARD
TZOFFSETFROM:+0000
TZOFFSETTO:+0000
TZNAME:UTC
DTSTART:20210101T000000
END:STANDARD
END:VTIMEZONE
BEGIN:VEVENT
DTSTART;TZID=Asia/Karachi:20220831T121000
DTEND;TZID=Asia/Karachi:20220831T124500
DTSTAMP:20260421T101753
CREATED:20220623T000446Z
LAST-MODIFIED:20220623T203540Z
UID:1198-1661947800-1661949900@hopeinahopelessworld.com
SUMMARY:Walking Wednesdays
DESCRIPTION:Meet at Woodland Trails Park for a 30-40 minute walk! \nWe will meet in the parking lot and walk the trails every Wednesday for the month of July\, 2022 and August\, 2022. \nWoodland Trails Regional Park – 20135 Elk Lake Road Elk River\, MN 55330-5600 \nShare this:\n				Share on Facebook (Opens in new window)\n				Facebook\n			\n				Share on Pinterest (Opens in new window)\n				Pinterest\n			Like this:Like Loading...
URL:https://hopeinahopelessworld.com/event/walking-wednesdays-8/
LOCATION:Woodland Trails Regional Park\, 20135 Elk Lake Road\, Elk River\, MN\, 55330\, United States
CATEGORIES:Walking Wednesday
ATTACH;FMTTYPE=image/png:https://hopeinahopelessworld.com/wp-content/uploads/2022/06/Walking-Wednesdays-e1655923443487.png
END:VEVENT
BEGIN:VEVENT
DTSTART;TZID=Asia/Karachi:20220824T121000
DTEND;TZID=Asia/Karachi:20220824T124500
DTSTAMP:20260421T101753
CREATED:20220623T000332Z
LAST-MODIFIED:20220623T203619Z
UID:1196-1661343000-1661345100@hopeinahopelessworld.com
SUMMARY:Walking Wednesdays
DESCRIPTION:Meet at Woodland Trails Park for a 30-40 minute walk! \nWe will meet in the parking lot and walk the trails every Wednesday for the month of July\, 2022 and August\, 2022. \nWoodland Trails Regional Park – 20135 Elk Lake Road Elk River\, MN 55330-5600 \nShare this:\n				Share on Facebook (Opens in new window)\n				Facebook\n			\n				Share on Pinterest (Opens in new window)\n				Pinterest\n			Like this:Like Loading...
URL:https://hopeinahopelessworld.com/event/walking-wednesdays-7/
LOCATION:Woodland Trails Regional Park\, 20135 Elk Lake Road\, Elk River\, MN\, 55330\, United States
CATEGORIES:Walking Wednesday
ATTACH;FMTTYPE=image/png:https://hopeinahopelessworld.com/wp-content/uploads/2022/06/Walking-Wednesdays-e1655923443487.png
END:VEVENT
BEGIN:VEVENT
DTSTART;TZID=Asia/Karachi:20220817T121000
DTEND;TZID=Asia/Karachi:20220817T124500
DTSTAMP:20260421T101753
CREATED:20220623T000218Z
LAST-MODIFIED:20220623T203714Z
UID:1194-1660738200-1660740300@hopeinahopelessworld.com
SUMMARY:Walking Wednesdays
DESCRIPTION:Meet at Woodland Trails Park for a 30-40 minute walk! \nWe will meet in the parking lot and walk the trails every Wednesday for the month of July\, 2022 and August\, 2022. \nWoodland Trails Regional Park – 20135 Elk Lake Road Elk River\, MN 55330-5600 \nShare this:\n				Share on Facebook (Opens in new window)\n				Facebook\n			\n				Share on Pinterest (Opens in new window)\n				Pinterest\n			Like this:Like Loading...
URL:https://hopeinahopelessworld.com/event/walking-wednesdays-6/
LOCATION:MN
CATEGORIES:Walking Wednesday
ATTACH;FMTTYPE=image/png:https://hopeinahopelessworld.com/wp-content/uploads/2022/06/Walking-Wednesdays-e1655923443487.png
END:VEVENT
BEGIN:VEVENT
DTSTART;TZID=UTC:20220810T121000
DTEND;TZID=UTC:20220810T124500
DTSTAMP:20260421T101753
CREATED:20220623T000108Z
LAST-MODIFIED:20220623T000108Z
UID:1192-1660133400-1660135500@hopeinahopelessworld.com
SUMMARY:Walking Wednesdays
DESCRIPTION:Meet at Woodland Trails Park for a 30-40 minute walk! \nWe will meet in the parking lot and walk the trails every Wednesday for the month of July\, 2022 and August\, 2022. \nWoodland Trails Regional Park – 20135 Elk Lake Road Elk River\, MN 55330-5600 \nShare this:\n				Share on Facebook (Opens in new window)\n				Facebook\n			\n				Share on Pinterest (Opens in new window)\n				Pinterest\n			Like this:Like Loading...
URL:https://hopeinahopelessworld.com/event/walking-wednesdays-5/
LOCATION:Woodland Trails Regional Park\, 20135 Elk Lake Road\, Elk River\, MN\, 55330\, United States
CATEGORIES:Walking Wednesday
ATTACH;FMTTYPE=image/png:https://hopeinahopelessworld.com/wp-content/uploads/2022/06/Walking-Wednesdays-e1655923443487.png
END:VEVENT
BEGIN:VEVENT
DTSTART;TZID=Asia/Karachi:20220803T121000
DTEND;TZID=Asia/Karachi:20220803T124500
DTSTAMP:20260421T101753
CREATED:20220622T235956Z
LAST-MODIFIED:20220623T203814Z
UID:1190-1659528600-1659530700@hopeinahopelessworld.com
SUMMARY:Walking Wednesdays
DESCRIPTION:Meet at Woodland Trails Park for a 30-40 minute walk! \nWe will meet in the parking lot and walk the trails every Wednesday for the month of July\, 2022 and August\, 2022. \nWoodland Trails Regional Park – 20135 Elk Lake Road Elk River\, MN 55330-5600 \nShare this:\n				Share on Facebook (Opens in new window)\n				Facebook\n			\n				Share on Pinterest (Opens in new window)\n				Pinterest\n			Like this:Like Loading...
URL:https://hopeinahopelessworld.com/event/walking-wednesdays-4/
LOCATION:Woodland Trails Regional Park\, 20135 Elk Lake Road\, Elk River\, MN\, 55330\, United States
CATEGORIES:Walking Wednesday
ATTACH;FMTTYPE=image/png:https://hopeinahopelessworld.com/wp-content/uploads/2022/06/Walking-Wednesdays-e1655923443487.png
END:VEVENT
BEGIN:VEVENT
DTSTART;TZID=Asia/Karachi:20220727T121000
DTEND;TZID=Asia/Karachi:20220727T124500
DTSTAMP:20260421T101753
CREATED:20220622T235156Z
LAST-MODIFIED:20220623T203913Z
UID:1188-1658923800-1658925900@hopeinahopelessworld.com
SUMMARY:Walking Wednesdays
DESCRIPTION:Meet at Woodland Trails Park for a 30-40 minute walk! \nWe will meet in the parking lot and walk the trails every Wednesday for the month of July\, 2022 and August\, 2022. \nWoodland Trails Regional Park – 20135 Elk Lake Road Elk River\, MN 55330-5600 \nShare this:\n				Share on Facebook (Opens in new window)\n				Facebook\n			\n				Share on Pinterest (Opens in new window)\n				Pinterest\n			Like this:Like Loading...
URL:https://hopeinahopelessworld.com/event/walking-wednesdays-3/
LOCATION:Woodland Trails Regional Park\, 20135 Elk Lake Road\, Elk River\, MN\, 55330\, United States
CATEGORIES:Walking Wednesday
ATTACH;FMTTYPE=image/png:https://hopeinahopelessworld.com/wp-content/uploads/2022/06/Walking-Wednesdays-e1655923443487.png
END:VEVENT
BEGIN:VEVENT
DTSTART;TZID=UTC:20220720T121000
DTEND;TZID=UTC:20220720T124500
DTSTAMP:20260421T101753
CREATED:20220622T235037Z
LAST-MODIFIED:20220622T235037Z
UID:1186-1658319000-1658321100@hopeinahopelessworld.com
SUMMARY:Walking Wednesdays
DESCRIPTION:Meet at Woodland Trails Park for a 30-40 minute walk! \nWe will meet in the parking lot and walk the trails every Wednesday for the month of July\, 2022 and August\, 2022. \nWoodland Trails Regional Park – 20135 Elk Lake Road Elk River\, MN 55330-5600 \nShare this:\n				Share on Facebook (Opens in new window)\n				Facebook\n			\n				Share on Pinterest (Opens in new window)\n				Pinterest\n			Like this:Like Loading...
URL:https://hopeinahopelessworld.com/event/walking-wednesdays-2/
LOCATION:Woodland Trails Regional Park\, 20135 Elk Lake Road\, Elk River\, MN\, 55330\, United States
CATEGORIES:Walking Wednesday
ATTACH;FMTTYPE=image/png:https://hopeinahopelessworld.com/wp-content/uploads/2022/06/Walking-Wednesdays-e1655923443487.png
END:VEVENT
BEGIN:VEVENT
DTSTART;TZID=Asia/Karachi:20220713T121000
DTEND;TZID=Asia/Karachi:20220713T124500
DTSTAMP:20260421T101753
CREATED:20220622T234724Z
LAST-MODIFIED:20220623T204010Z
UID:1183-1657714200-1657716300@hopeinahopelessworld.com
SUMMARY:Walking Wednesdays
DESCRIPTION:Meet at Woodland Trails Park for a 30-40 minute walk! \nWe will meet in the parking lot and walk the trails every Wednesday for the month of July\, 2022 and August\, 2022. \nWoodland Trails Regional Park – 20135 Elk Lake Road Elk River\, MN 55330-5600 \nShare this:\n				Share on Facebook (Opens in new window)\n				Facebook\n			\n				Share on Pinterest (Opens in new window)\n				Pinterest\n			Like this:Like Loading...
URL:https://hopeinahopelessworld.com/event/walking-wednesdays/
LOCATION:Woodland Trails Regional Park\, 20135 Elk Lake Road\, Elk River\, MN\, 55330\, United States
CATEGORIES:Walking Wednesday
ATTACH;FMTTYPE=image/png:https://hopeinahopelessworld.com/wp-content/uploads/2022/06/Walking-Wednesdays-e1655923443487.png
END:VEVENT
BEGIN:VEVENT
DTSTART;TZID=Asia/Karachi:20220706T121000
DTEND;TZID=Asia/Karachi:20220706T124500
DTSTAMP:20260421T101753
CREATED:20220622T234407Z
LAST-MODIFIED:20220623T204039Z
UID:1180-1657109400-1657111500@hopeinahopelessworld.com
SUMMARY:Walking Wednesday
DESCRIPTION:Meet at Woodland Trails Park for a 30-40 minute walk! \nWe will meet in the parking lot and walk the trails every Wednesday for the month of July\, 2022 and August\, 2022. \nWoodland Trails Regional Park – 20135 Elk Lake Road Elk River\, MN 55330-5600 \nShare this:\n				Share on Facebook (Opens in new window)\n				Facebook\n			\n				Share on Pinterest (Opens in new window)\n				Pinterest\n			Like this:Like Loading...
URL:https://hopeinahopelessworld.com/event/walking-wednesday/
LOCATION:Woodland Trails Regional Park\, 20135 Elk Lake Road\, Elk River\, MN\, 55330\, United States
CATEGORIES:Walking Wednesday
ATTACH;FMTTYPE=image/png:https://hopeinahopelessworld.com/wp-content/uploads/2022/06/Walking-Wednesdays-e1655923443487.png
END:VEVENT
END:VCALENDAR