BEGIN:VCALENDAR
VERSION:2.0
PRODID:-//Hope in a Hopeless World - ECPv6.15.20//NONSGML v1.0//EN
CALSCALE:GREGORIAN
METHOD:PUBLISH
X-WR-CALNAME:Hope in a Hopeless World
X-ORIGINAL-URL:https://hopeinahopelessworld.com
X-WR-CALDESC:Events for Hope in a Hopeless World
REFRESH-INTERVAL;VALUE=DURATION:PT1H
X-Robots-Tag:noindex
X-PUBLISHED-TTL:PT1H
BEGIN:VTIMEZONE
TZID:America/Chicago
BEGIN:DAYLIGHT
TZOFFSETFROM:-0600
TZOFFSETTO:-0500
TZNAME:CDT
DTSTART:20240310T080000
END:DAYLIGHT
BEGIN:STANDARD
TZOFFSETFROM:-0500
TZOFFSETTO:-0600
TZNAME:CST
DTSTART:20241103T070000
END:STANDARD
BEGIN:DAYLIGHT
TZOFFSETFROM:-0600
TZOFFSETTO:-0500
TZNAME:CDT
DTSTART:20250309T080000
END:DAYLIGHT
BEGIN:STANDARD
TZOFFSETFROM:-0500
TZOFFSETTO:-0600
TZNAME:CST
DTSTART:20251102T070000
END:STANDARD
BEGIN:DAYLIGHT
TZOFFSETFROM:-0600
TZOFFSETTO:-0500
TZNAME:CDT
DTSTART:20260308T080000
END:DAYLIGHT
BEGIN:STANDARD
TZOFFSETFROM:-0500
TZOFFSETTO:-0600
TZNAME:CST
DTSTART:20261101T070000
END:STANDARD
END:VTIMEZONE
BEGIN:VEVENT
DTSTART;TZID=America/Chicago:20251120T173000
DTEND;TZID=America/Chicago:20251120T200000
DTSTAMP:20260422T021946
CREATED:20250926T195941Z
LAST-MODIFIED:20250926T204141Z
UID:2056-1763659800-1763668800@hopeinahopelessworld.com
SUMMARY:Friendsgiving Dinner
DESCRIPTION:Friendsgiving Dinner – Come Share Your Favorite Dish with Us!  \nJoin Hope in a Hopeless World for a cozy evening of food\, friendship\, and connection at our Friendsgiving Dinner. Bring along your favorite dish to share and enjoy the warmth of community as we gather around the table. Bringing a dish is optional!  Please sign-up so we know how many people to expect. https://www.zeffy.com/en-US/ticketing/friendsgiving-dinner-2 \nThis Hope Connection Event is open to any adult and their family who would like to join us. Hope Connection Events through Hope in a Hopeless World are small gatherings of people looking for connection with others in a low-pressure\, no-judgment space. \nCome for the food\, stay for the hope and connection. We can’t wait to celebrate the season of gratitude together! \nShare this:\n				Share on Facebook (Opens in new window)\n				Facebook\n			\n				Share on Pinterest (Opens in new window)\n				Pinterest\n			Like this:Like Loading...
URL:https://hopeinahopelessworld.com/event/friendsgiving-dinner/
LOCATION:Granite Shores Elk River\, 633 633 Main St NW\, Elk River\, MN\, 55330\, United States
CATEGORIES:Hope Connection
ATTACH;FMTTYPE=image/png:https://hopeinahopelessworld.com/wp-content/uploads/2025/09/Friend-Giving-Dinner.png
ORGANIZER;CN="Hope in a Hopeless World":MAILTO:hope@hhwmn.com
END:VEVENT
END:VCALENDAR