BEGIN:VCALENDAR
VERSION:2.0
PRODID:-//Hope in a Hopeless World - ECPv6.15.20//NONSGML v1.0//EN
CALSCALE:GREGORIAN
METHOD:PUBLISH
X-WR-CALNAME:Hope in a Hopeless World
X-ORIGINAL-URL:https://hopeinahopelessworld.com
X-WR-CALDESC:Events for Hope in a Hopeless World
REFRESH-INTERVAL;VALUE=DURATION:PT1H
X-Robots-Tag:noindex
X-PUBLISHED-TTL:PT1H
BEGIN:VTIMEZONE
TZID:America/Chicago
BEGIN:DAYLIGHT
TZOFFSETFROM:-0600
TZOFFSETTO:-0500
TZNAME:CDT
DTSTART:20240310T080000
END:DAYLIGHT
BEGIN:STANDARD
TZOFFSETFROM:-0500
TZOFFSETTO:-0600
TZNAME:CST
DTSTART:20241103T070000
END:STANDARD
BEGIN:DAYLIGHT
TZOFFSETFROM:-0600
TZOFFSETTO:-0500
TZNAME:CDT
DTSTART:20250309T080000
END:DAYLIGHT
BEGIN:STANDARD
TZOFFSETFROM:-0500
TZOFFSETTO:-0600
TZNAME:CST
DTSTART:20251102T070000
END:STANDARD
BEGIN:DAYLIGHT
TZOFFSETFROM:-0600
TZOFFSETTO:-0500
TZNAME:CDT
DTSTART:20260308T080000
END:DAYLIGHT
BEGIN:STANDARD
TZOFFSETFROM:-0500
TZOFFSETTO:-0600
TZNAME:CST
DTSTART:20261101T070000
END:STANDARD
END:VTIMEZONE
BEGIN:VEVENT
DTSTART;TZID=America/Chicago:20251025T150000
DTEND;TZID=America/Chicago:20251025T170000
DTSTAMP:20260422T034206
CREATED:20250926T191609Z
LAST-MODIFIED:20250926T204041Z
UID:2050-1761404400-1761411600@hopeinahopelessworld.com
SUMMARY:Paint It Out - Healing Art Class
DESCRIPTION:Looking for a meaningful way to relax\, create\, and connect? \nPaint It Out – Healing Art Class offers a supportive space where you can unwind\, explore your emotions\, and express yourself freely—no pressure\, no perfection\, just healing through creativity. This class helps quiet the mind and give shape to feelings that words can’t always capture. All materials provided\, no experience necessary. Register here: https://www.zeffy.com/en-US/ticketing/paint-it-out-healing-art-class-2 \nThis is a Hope Connection Event hosted by Hope in a Hopeless World\, in partnership with Artist Mary Zillmann. The event will take place at Parenting with Grace in Buffalo\, MN on Saturday October 25th from 3:00 PM – 5:00 PM. \nThis Hope Connection Event is open to any adult wanting to join us. Hope Connection Events through Hope in a Hopeless World are small gatherings of people looking for connection with others in a low pressure\, no judgment space. We never want cost to be a barrier! If cost is an issue\, select a “Hope Ticket” (free sponsored tickets). We have a few of those available on a first come\, first serve basis. We ask that you only use this ticket if you are confident that you can make it and if that changes let us know as soon as possible. \nShare this:\n				Share on Facebook (Opens in new window)\n				Facebook\n			\n				Share on Pinterest (Opens in new window)\n				Pinterest\n			Like this:Like Loading...
URL:https://hopeinahopelessworld.com/event/paint-it-out-healing-art-class/
LOCATION:Parenting with Grace\, 1201-1/2 MN-25 N\, Buffalo\, MN\, 55313\, United States
CATEGORIES:Hope Connection
ATTACH;FMTTYPE=image/png:https://hopeinahopelessworld.com/wp-content/uploads/2025/09/Paint-it-Out-Healing-Art-Class.png
ORGANIZER;CN="Hope in a Hopeless World":MAILTO:hope@hhwmn.com
END:VEVENT
END:VCALENDAR