BEGIN:VCALENDAR
VERSION:2.0
PRODID:-//Hope in a Hopeless World - ECPv6.15.20//NONSGML v1.0//EN
CALSCALE:GREGORIAN
METHOD:PUBLISH
X-WR-CALNAME:Hope in a Hopeless World
X-ORIGINAL-URL:https://hopeinahopelessworld.com
X-WR-CALDESC:Events for Hope in a Hopeless World
REFRESH-INTERVAL;VALUE=DURATION:PT1H
X-Robots-Tag:noindex
X-PUBLISHED-TTL:PT1H
BEGIN:VTIMEZONE
TZID:America/Chicago
BEGIN:DAYLIGHT
TZOFFSETFROM:-0600
TZOFFSETTO:-0500
TZNAME:CDT
DTSTART:20240310T080000
END:DAYLIGHT
BEGIN:STANDARD
TZOFFSETFROM:-0500
TZOFFSETTO:-0600
TZNAME:CST
DTSTART:20241103T070000
END:STANDARD
BEGIN:DAYLIGHT
TZOFFSETFROM:-0600
TZOFFSETTO:-0500
TZNAME:CDT
DTSTART:20250309T080000
END:DAYLIGHT
BEGIN:STANDARD
TZOFFSETFROM:-0500
TZOFFSETTO:-0600
TZNAME:CST
DTSTART:20251102T070000
END:STANDARD
BEGIN:DAYLIGHT
TZOFFSETFROM:-0600
TZOFFSETTO:-0500
TZNAME:CDT
DTSTART:20260308T080000
END:DAYLIGHT
BEGIN:STANDARD
TZOFFSETFROM:-0500
TZOFFSETTO:-0600
TZNAME:CST
DTSTART:20261101T070000
END:STANDARD
END:VTIMEZONE
BEGIN:VEVENT
DTSTART;TZID=America/Chicago:20250816T110000
DTEND;TZID=America/Chicago:20250816T170000
DTSTAMP:20260422T193845
CREATED:20250119T173229Z
LAST-MODIFIED:20250310T035121Z
UID:1967-1755342000-1755363600@hopeinahopelessworld.com
SUMMARY:Bags for Hope: Charity Cornhole Tournament!
DESCRIPTION:3rd Annual Bags for Hope Charity Cornhole Tournament!\nRegister for the tournament or just come hang out with us.\nWe will have a food truck\, silent auction\, playground\, games\, & more!\n\nRegistration is now open! https://www.zeffy.com/ticketing/2025-bags-for-hope-charity-cornhole-tournament\n\nAll proceeds from the event will go towards mental health outreach efforts including free support groups\, wellness retreats\, community trainings and workshops. Our current locations are Monticello\, Elk River\, Otsego\, & Online.\nShare this:\n				Share on Facebook (Opens in new window)\n				Facebook\n			\n				Share on Pinterest (Opens in new window)\n				Pinterest\n			Like this:Like Loading...
URL:https://hopeinahopelessworld.com/event/bags-for-hope-charity-cornhole-tournament/
LOCATION:Pioneer Park\, 9165 Fallon Ave NE\, Monticello\, 55362\, United States
CATEGORIES:Fundraiser
ATTACH;FMTTYPE=image/png:https://hopeinahopelessworld.com/wp-content/uploads/2025/01/Copy-of-Copy-of-Bags-for-Hope.png
ORGANIZER;CN="Hope in a Hopeless World":MAILTO:hope@hhwmn.com
END:VEVENT
END:VCALENDAR