BEGIN:VCALENDAR
VERSION:2.0
PRODID:-//Hope in a Hopeless World - ECPv6.15.20//NONSGML v1.0//EN
CALSCALE:GREGORIAN
METHOD:PUBLISH
X-WR-CALNAME:Hope in a Hopeless World
X-ORIGINAL-URL:https://hopeinahopelessworld.com
X-WR-CALDESC:Events for Hope in a Hopeless World
REFRESH-INTERVAL;VALUE=DURATION:PT1H
X-Robots-Tag:noindex
X-PUBLISHED-TTL:PT1H
BEGIN:VTIMEZONE
TZID:America/Chicago
BEGIN:DAYLIGHT
TZOFFSETFROM:-0600
TZOFFSETTO:-0500
TZNAME:CDT
DTSTART:20240310T080000
END:DAYLIGHT
BEGIN:STANDARD
TZOFFSETFROM:-0500
TZOFFSETTO:-0600
TZNAME:CST
DTSTART:20241103T070000
END:STANDARD
BEGIN:DAYLIGHT
TZOFFSETFROM:-0600
TZOFFSETTO:-0500
TZNAME:CDT
DTSTART:20250309T080000
END:DAYLIGHT
BEGIN:STANDARD
TZOFFSETFROM:-0500
TZOFFSETTO:-0600
TZNAME:CST
DTSTART:20251102T070000
END:STANDARD
BEGIN:DAYLIGHT
TZOFFSETFROM:-0600
TZOFFSETTO:-0500
TZNAME:CDT
DTSTART:20260308T080000
END:DAYLIGHT
BEGIN:STANDARD
TZOFFSETFROM:-0500
TZOFFSETTO:-0600
TZNAME:CST
DTSTART:20261101T070000
END:STANDARD
END:VTIMEZONE
BEGIN:VEVENT
DTSTART;TZID=America/Chicago:20250315T103000
DTEND;TZID=America/Chicago:20250315T190000
DTSTAMP:20260424T020541
CREATED:20250310T035456Z
LAST-MODIFIED:20250310T035456Z
UID:1977-1742034600-1742065200@hopeinahopelessworld.com
SUMMARY:The Unscripted Day
DESCRIPTION:From crafts to conversation\, puzzles to organization\, and everything in between – unplug and enjoy an Unscripted Day of hands-on activities and meaningful connections. \nBring your own supplies or choose from one of our activities 🙂 Let’s hang out in this beautiful space! \n  \nThis event is a Hope Connection Event open to any adult wanting to join us. Hope Connection Events through Hope in a Hopeless World are small gatherings of people looking for connection with others in a low pressure\, no judgment space. \n  \nWe never want cost to be a barrier!! If cost is an issue\, use keyword “Hope” at checkout to use a “Hope Ticket” (free sponsored tickets). We have a few of those available on a first come\, first serve basis. Due to past events having several no shows when using a Hope Ticket\, we asked that you only use this ticket if you are confident that you can make it and if that changes let us know as soon as possible. \n  \nWe are so excited for you join us! \nShare this:\n				Share on Facebook (Opens in new window)\n				Facebook\n			\n				Share on Pinterest (Opens in new window)\n				Pinterest\n			Like this:Like Loading...
URL:https://hopeinahopelessworld.com/event/the-unscripted-day/
LOCATION:Chalet – Bertram Chain of Lakes\, 9842 Briarwood Ave NE\, Monticello\, MN\, 55362\, United States
CATEGORIES:Hope Connection
ATTACH;FMTTYPE=image/png:https://hopeinahopelessworld.com/wp-content/uploads/2025/03/The-Unscripted-Day.png
ORGANIZER;CN="Hope in a Hopeless World":MAILTO:hope@hhwmn.com
END:VEVENT
END:VCALENDAR