BEGIN:VCALENDAR
VERSION:2.0
PRODID:-//Hope in a Hopeless World - ECPv6.15.20//NONSGML v1.0//EN
CALSCALE:GREGORIAN
METHOD:PUBLISH
X-WR-CALNAME:Hope in a Hopeless World
X-ORIGINAL-URL:https://hopeinahopelessworld.com
X-WR-CALDESC:Events for Hope in a Hopeless World
REFRESH-INTERVAL;VALUE=DURATION:PT1H
X-Robots-Tag:noindex
X-PUBLISHED-TTL:PT1H
BEGIN:VTIMEZONE
TZID:America/Chicago
BEGIN:DAYLIGHT
TZOFFSETFROM:-0600
TZOFFSETTO:-0500
TZNAME:CDT
DTSTART:20230312T080000
END:DAYLIGHT
BEGIN:STANDARD
TZOFFSETFROM:-0500
TZOFFSETTO:-0600
TZNAME:CST
DTSTART:20231105T070000
END:STANDARD
BEGIN:DAYLIGHT
TZOFFSETFROM:-0600
TZOFFSETTO:-0500
TZNAME:CDT
DTSTART:20240310T080000
END:DAYLIGHT
BEGIN:STANDARD
TZOFFSETFROM:-0500
TZOFFSETTO:-0600
TZNAME:CST
DTSTART:20241103T070000
END:STANDARD
BEGIN:DAYLIGHT
TZOFFSETFROM:-0600
TZOFFSETTO:-0500
TZNAME:CDT
DTSTART:20250309T080000
END:DAYLIGHT
BEGIN:STANDARD
TZOFFSETFROM:-0500
TZOFFSETTO:-0600
TZNAME:CST
DTSTART:20251102T070000
END:STANDARD
END:VTIMEZONE
BEGIN:VEVENT
DTSTART;TZID=America/Chicago:20240406T160000
DTEND;TZID=America/Chicago:20240406T180000
DTSTAMP:20260424T205337
CREATED:20240206T165908Z
LAST-MODIFIED:20240207T033955Z
UID:1624-1712419200-1712426400@hopeinahopelessworld.com
SUMMARY:Hope Connection: Game Night!
DESCRIPTION:Join us for a Game Night on Saturday 4/6/2024 from 4-6 PM at Central Lutheran Church in Elk River\, MN. Free to attend\, register so we know how many people to plan for! Kids are welcome to join us\, no childcare will be available. \nRegister here! *Registration link will take you to our 3rd party donation platform \nShare this:\n				Share on Facebook (Opens in new window)\n				Facebook\n			\n				Share on Pinterest (Opens in new window)\n				Pinterest\n			Like this:Like Loading...
URL:https://hopeinahopelessworld.com/event/hope-connection-game-night/
LOCATION:Central Lutheran Church\, 1103 School Street NW\, Elk River\, MN\, 55330\, United States
CATEGORIES:Hope Connection
ATTACH;FMTTYPE=image/png:https://hopeinahopelessworld.com/wp-content/uploads/2024/02/Game-Night.png
ORGANIZER;CN="Hope in a Hopeless World":MAILTO:hope@hhwmn.com
END:VEVENT
END:VCALENDAR